BEGIN:VCALENDAR
VERSION:2.0
PRODID:-//TUG Ottendorf-Okrilla - ECPv6.15.19//NONSGML v1.0//EN
CALSCALE:GREGORIAN
METHOD:PUBLISH
X-WR-CALNAME:TUG Ottendorf-Okrilla
X-ORIGINAL-URL:https://tug-ottendorf-okrilla.de
X-WR-CALDESC:Veranstaltungen für TUG Ottendorf-Okrilla
REFRESH-INTERVAL;VALUE=DURATION:PT1H
X-Robots-Tag:noindex
X-PUBLISHED-TTL:PT1H
BEGIN:VTIMEZONE
TZID:Europe/Berlin
BEGIN:DAYLIGHT
TZOFFSETFROM:+0100
TZOFFSETTO:+0200
TZNAME:CEST
DTSTART:20250330T010000
END:DAYLIGHT
BEGIN:STANDARD
TZOFFSETFROM:+0200
TZOFFSETTO:+0100
TZNAME:CET
DTSTART:20251026T010000
END:STANDARD
BEGIN:DAYLIGHT
TZOFFSETFROM:+0100
TZOFFSETTO:+0200
TZNAME:CEST
DTSTART:20260329T010000
END:DAYLIGHT
BEGIN:STANDARD
TZOFFSETFROM:+0200
TZOFFSETTO:+0100
TZNAME:CET
DTSTART:20261025T010000
END:STANDARD
BEGIN:DAYLIGHT
TZOFFSETFROM:+0100
TZOFFSETTO:+0200
TZNAME:CEST
DTSTART:20270328T010000
END:DAYLIGHT
BEGIN:STANDARD
TZOFFSETFROM:+0200
TZOFFSETTO:+0100
TZNAME:CET
DTSTART:20271031T010000
END:STANDARD
END:VTIMEZONE
BEGIN:VEVENT
DTSTART;TZID=Europe/Berlin:20260425T080000
DTEND;TZID=Europe/Berlin:20260425T170000
DTSTAMP:20260420T022726
CREATED:20260302T195654Z
LAST-MODIFIED:20260302T200415Z
UID:5138-1777104000-1777136400@tug-ottendorf-okrilla.de
SUMMARY:25.04.26 Tag des Tanzes in Frankenberg
DESCRIPTION:Teilnahme der Showdance-Gruppe am Tag des Tanzes in Frankenberg\, ganztags
URL:https://tug-ottendorf-okrilla.de/event/tag-des-tanzes-in-frankenberg/
END:VEVENT
BEGIN:VEVENT
DTSTART;TZID=Europe/Berlin:20260530T120000
DTEND;TZID=Europe/Berlin:20260530T123000
DTSTAMP:20260420T022726
CREATED:20260302T200006Z
LAST-MODIFIED:20260302T200007Z
UID:5140-1780142400-1780144200@tug-ottendorf-okrilla.de
SUMMARY:30.5.26 Bautzener Frühling
DESCRIPTION:Auftritt Showdance-Gruppe in Bautzen am Dom ca. 12:00 Uhr
URL:https://tug-ottendorf-okrilla.de/event/30-5-26-bautzener-fruehling/
END:VEVENT
BEGIN:VEVENT
DTSTART;TZID=Europe/Berlin:20260606T100000
DTEND;TZID=Europe/Berlin:20260606T180000
DTSTAMP:20260420T022726
CREATED:20260124T202019Z
LAST-MODIFIED:20260302T201257Z
UID:5118-1780740000-1780768800@tug-ottendorf-okrilla.de
SUMMARY:06.06.26 Ortsspartakiade Kinderturnen
DESCRIPTION:Wettkampf für alle Turnkinder der Pflichtklassen P1-P6 in den Gruppen Vorschule\, 1.-4. Klasse und 5.-8. Klasse \n\n\n\nSowie Athletik 6-10 Jahre des TUG Ottendorf-Okrilla\, \n\n\n\nZuschauer sind gern willkommen! \n\n\n\nOrtsspartakiade in der neuen 2-Feldhalle Ottendorf-Okrilla
URL:https://tug-ottendorf-okrilla.de/event/ortsspartakiade-kinderturnen/
END:VEVENT
BEGIN:VEVENT
DTSTART;TZID=Europe/Berlin:20260628T150000
DTEND;TZID=Europe/Berlin:20260628T153000
DTSTAMP:20260420T022726
CREATED:20260302T200635Z
LAST-MODIFIED:20260302T200635Z
UID:5143-1782658800-1782660600@tug-ottendorf-okrilla.de
SUMMARY:28.06.26 Auftritt Showdance Elbhangfest in Dresden
DESCRIPTION:
URL:https://tug-ottendorf-okrilla.de/event/28-06-26-auftritt-showdance-elbhangfest-in-dresden/
END:VEVENT
BEGIN:VEVENT
DTSTART;TZID=Europe/Berlin:20260828T180000
DTEND;TZID=Europe/Berlin:20260828T200000
DTSTAMP:20260420T022726
CREATED:20260302T200900Z
LAST-MODIFIED:20260302T200901Z
UID:5145-1787940000-1787947200@tug-ottendorf-okrilla.de
SUMMARY:28.08.26 Auftritt Showdance bei Freitagabend im Hermsdorfer Park
DESCRIPTION:
URL:https://tug-ottendorf-okrilla.de/event/28-08-26-auftritt-showdance-bei-freitagabend-im-hermsdorfer-park/
END:VEVENT
END:VCALENDAR